BEGIN:VCALENDAR
VERSION:2.0
PRODID:-//Visit Hood River - ECPv6.15.20//NONSGML v1.0//EN
CALSCALE:GREGORIAN
METHOD:PUBLISH
X-WR-CALNAME:Visit Hood River
X-ORIGINAL-URL:https://visithoodriver.com
X-WR-CALDESC:Events for Visit Hood River
REFRESH-INTERVAL;VALUE=DURATION:PT1H
X-Robots-Tag:noindex
X-PUBLISHED-TTL:PT1H
BEGIN:VTIMEZONE
TZID:America/Los_Angeles
BEGIN:DAYLIGHT
TZOFFSETFROM:-0800
TZOFFSETTO:-0700
TZNAME:PDT
DTSTART:20240310T100000
END:DAYLIGHT
BEGIN:STANDARD
TZOFFSETFROM:-0700
TZOFFSETTO:-0800
TZNAME:PST
DTSTART:20241103T090000
END:STANDARD
BEGIN:DAYLIGHT
TZOFFSETFROM:-0800
TZOFFSETTO:-0700
TZNAME:PDT
DTSTART:20250309T100000
END:DAYLIGHT
BEGIN:STANDARD
TZOFFSETFROM:-0700
TZOFFSETTO:-0800
TZNAME:PST
DTSTART:20251102T090000
END:STANDARD
BEGIN:DAYLIGHT
TZOFFSETFROM:-0800
TZOFFSETTO:-0700
TZNAME:PDT
DTSTART:20260308T100000
END:DAYLIGHT
BEGIN:STANDARD
TZOFFSETFROM:-0700
TZOFFSETTO:-0800
TZNAME:PST
DTSTART:20261101T090000
END:STANDARD
END:VTIMEZONE
BEGIN:VEVENT
DTSTART;TZID=America/Los_Angeles:20250426T100000
DTEND;TZID=America/Los_Angeles:20250426T130000
DTSTAMP:20260421T025503
CREATED:20250401T222725Z
LAST-MODIFIED:20250401T222725Z
UID:126468-1745661600-1745672400@visithoodriver.com
SUMMARY:Investor Seminar- Mid-Columbia Innovation Hub
DESCRIPTION:Interested in early-stage investing? Join us in Hood River for a seminar covering the fundamentals of angel investing—how to identify promising opportunities\, evaluate deals\, and build your personal investment strategy. Led by experienced professionals with deep expertise in connecting investors to companies\, this session offers practical insights and guidance. Coffee and lunch are provided\, but seating is limited—reserve your spot today. \n 
URL:https://visithoodriver.com/event/investor-seminar-mid-columbia-innovation-hub/
LOCATION:Outpost Offices\, 403 Portway Ave. Suite 300\, Hood River\, OR\, 97031
CATEGORIES:Chamber Member Events
ATTACH;FMTTYPE=image/jpeg:https://visithoodriver.com/wp-content/uploads/2025/04/ba63f8e2-972b-4aa9-a768-b7c02beda9a1.jpg
END:VEVENT
END:VCALENDAR