BEGIN:VCALENDAR
VERSION:2.0
PRODID:-//Visit Hood River - ECPv6.15.20//NONSGML v1.0//EN
CALSCALE:GREGORIAN
METHOD:PUBLISH
X-WR-CALNAME:Visit Hood River
X-ORIGINAL-URL:https://visithoodriver.com
X-WR-CALDESC:Events for Visit Hood River
REFRESH-INTERVAL;VALUE=DURATION:PT1H
X-Robots-Tag:noindex
X-PUBLISHED-TTL:PT1H
BEGIN:VTIMEZONE
TZID:America/Los_Angeles
BEGIN:DAYLIGHT
TZOFFSETFROM:-0800
TZOFFSETTO:-0700
TZNAME:PDT
DTSTART:20250309T100000
END:DAYLIGHT
BEGIN:STANDARD
TZOFFSETFROM:-0700
TZOFFSETTO:-0800
TZNAME:PST
DTSTART:20251102T090000
END:STANDARD
BEGIN:DAYLIGHT
TZOFFSETFROM:-0800
TZOFFSETTO:-0700
TZNAME:PDT
DTSTART:20260308T100000
END:DAYLIGHT
BEGIN:STANDARD
TZOFFSETFROM:-0700
TZOFFSETTO:-0800
TZNAME:PST
DTSTART:20261101T090000
END:STANDARD
BEGIN:DAYLIGHT
TZOFFSETFROM:-0800
TZOFFSETTO:-0700
TZNAME:PDT
DTSTART:20270314T100000
END:DAYLIGHT
BEGIN:STANDARD
TZOFFSETFROM:-0700
TZOFFSETTO:-0800
TZNAME:PST
DTSTART:20271107T090000
END:STANDARD
END:VTIMEZONE
BEGIN:VEVENT
DTSTART;TZID=America/Los_Angeles:20260421T100000
DTEND;TZID=America/Los_Angeles:20260421T170000
DTSTAMP:20260421T005110
CREATED:20260409T175853Z
LAST-MODIFIED:20260409T175853Z
UID:216291-1776765600-1776790800@visithoodriver.com
SUMMARY:Gorge Open Studio Tours- Preview Show
DESCRIPTION:Gorge Artists Preview Show \nFriday\, April 17- Sunday\, April 26 \nDaily- 10 am-5 pm \nStarting on Friday\, April 17 6-8 pm \nColumbia Gorge Museum \n990 SW Rock Creek Dr. \nStevenson\, WA \n  \n \n\nIn celebration of its 20th year\, Gorge Artists Open Studios will be hosting a special “Preview Show” opening on Friday\, April 17\, from 6 – 8 pm at the Columbia Gorge Museum in Stevenson\, WA.  The work will remain on display through Friday\, April 26.\n\nPlease join in at the Opening and meet the artists!  It is a wonderful opportunity to get a first look at the work of the artists participating in the Open Studios Tour which is scheduled for May 1-3.\n\nCheck our website for this information:  gorgeartists.org
URL:https://visithoodriver.com/event/gorge-open-studio-tours-preview-show/2026-04-21/
LOCATION:Columbia Gorge Museum\, 990 SW Rock Creek Dr.\, Stevenson\, WA\, 98648
CATEGORIES:Community
ATTACH;FMTTYPE=image/webp:https://visithoodriver.com/wp-content/uploads/2026/04/IMG_3527.webp
END:VEVENT
BEGIN:VEVENT
DTSTART;TZID=America/Los_Angeles:20260422T100000
DTEND;TZID=America/Los_Angeles:20260422T170000
DTSTAMP:20260421T005110
CREATED:20260409T175853Z
LAST-MODIFIED:20260409T175853Z
UID:216292-1776852000-1776877200@visithoodriver.com
SUMMARY:Gorge Open Studio Tours- Preview Show
DESCRIPTION:Gorge Artists Preview Show \nFriday\, April 17- Sunday\, April 26 \nDaily- 10 am-5 pm \nStarting on Friday\, April 17 6-8 pm \nColumbia Gorge Museum \n990 SW Rock Creek Dr. \nStevenson\, WA \n  \n \n\nIn celebration of its 20th year\, Gorge Artists Open Studios will be hosting a special “Preview Show” opening on Friday\, April 17\, from 6 – 8 pm at the Columbia Gorge Museum in Stevenson\, WA.  The work will remain on display through Friday\, April 26.\n\nPlease join in at the Opening and meet the artists!  It is a wonderful opportunity to get a first look at the work of the artists participating in the Open Studios Tour which is scheduled for May 1-3.\n\nCheck our website for this information:  gorgeartists.org
URL:https://visithoodriver.com/event/gorge-open-studio-tours-preview-show/2026-04-22/
LOCATION:Columbia Gorge Museum\, 990 SW Rock Creek Dr.\, Stevenson\, WA\, 98648
CATEGORIES:Community
ATTACH;FMTTYPE=image/webp:https://visithoodriver.com/wp-content/uploads/2026/04/IMG_3527.webp
END:VEVENT
BEGIN:VEVENT
DTSTART;TZID=America/Los_Angeles:20260423T100000
DTEND;TZID=America/Los_Angeles:20260423T170000
DTSTAMP:20260421T005110
CREATED:20260409T175853Z
LAST-MODIFIED:20260409T175853Z
UID:216293-1776938400-1776963600@visithoodriver.com
SUMMARY:Gorge Open Studio Tours- Preview Show
DESCRIPTION:Gorge Artists Preview Show \nFriday\, April 17- Sunday\, April 26 \nDaily- 10 am-5 pm \nStarting on Friday\, April 17 6-8 pm \nColumbia Gorge Museum \n990 SW Rock Creek Dr. \nStevenson\, WA \n  \n \n\nIn celebration of its 20th year\, Gorge Artists Open Studios will be hosting a special “Preview Show” opening on Friday\, April 17\, from 6 – 8 pm at the Columbia Gorge Museum in Stevenson\, WA.  The work will remain on display through Friday\, April 26.\n\nPlease join in at the Opening and meet the artists!  It is a wonderful opportunity to get a first look at the work of the artists participating in the Open Studios Tour which is scheduled for May 1-3.\n\nCheck our website for this information:  gorgeartists.org
URL:https://visithoodriver.com/event/gorge-open-studio-tours-preview-show/2026-04-23/
LOCATION:Columbia Gorge Museum\, 990 SW Rock Creek Dr.\, Stevenson\, WA\, 98648
CATEGORIES:Community
ATTACH;FMTTYPE=image/webp:https://visithoodriver.com/wp-content/uploads/2026/04/IMG_3527.webp
END:VEVENT
BEGIN:VEVENT
DTSTART;TZID=America/Los_Angeles:20260424T100000
DTEND;TZID=America/Los_Angeles:20260424T170000
DTSTAMP:20260421T005110
CREATED:20260409T175853Z
LAST-MODIFIED:20260409T175853Z
UID:216294-1777024800-1777050000@visithoodriver.com
SUMMARY:Gorge Open Studio Tours- Preview Show
DESCRIPTION:Gorge Artists Preview Show \nFriday\, April 17- Sunday\, April 26 \nDaily- 10 am-5 pm \nStarting on Friday\, April 17 6-8 pm \nColumbia Gorge Museum \n990 SW Rock Creek Dr. \nStevenson\, WA \n  \n \n\nIn celebration of its 20th year\, Gorge Artists Open Studios will be hosting a special “Preview Show” opening on Friday\, April 17\, from 6 – 8 pm at the Columbia Gorge Museum in Stevenson\, WA.  The work will remain on display through Friday\, April 26.\n\nPlease join in at the Opening and meet the artists!  It is a wonderful opportunity to get a first look at the work of the artists participating in the Open Studios Tour which is scheduled for May 1-3.\n\nCheck our website for this information:  gorgeartists.org
URL:https://visithoodriver.com/event/gorge-open-studio-tours-preview-show/2026-04-24/
LOCATION:Columbia Gorge Museum\, 990 SW Rock Creek Dr.\, Stevenson\, WA\, 98648
CATEGORIES:Community
ATTACH;FMTTYPE=image/webp:https://visithoodriver.com/wp-content/uploads/2026/04/IMG_3527.webp
END:VEVENT
BEGIN:VEVENT
DTSTART;TZID=America/Los_Angeles:20260425T100000
DTEND;TZID=America/Los_Angeles:20260425T170000
DTSTAMP:20260421T005110
CREATED:20260409T175853Z
LAST-MODIFIED:20260409T175853Z
UID:216295-1777111200-1777136400@visithoodriver.com
SUMMARY:Gorge Open Studio Tours- Preview Show
DESCRIPTION:Gorge Artists Preview Show \nFriday\, April 17- Sunday\, April 26 \nDaily- 10 am-5 pm \nStarting on Friday\, April 17 6-8 pm \nColumbia Gorge Museum \n990 SW Rock Creek Dr. \nStevenson\, WA \n  \n \n\nIn celebration of its 20th year\, Gorge Artists Open Studios will be hosting a special “Preview Show” opening on Friday\, April 17\, from 6 – 8 pm at the Columbia Gorge Museum in Stevenson\, WA.  The work will remain on display through Friday\, April 26.\n\nPlease join in at the Opening and meet the artists!  It is a wonderful opportunity to get a first look at the work of the artists participating in the Open Studios Tour which is scheduled for May 1-3.\n\nCheck our website for this information:  gorgeartists.org
URL:https://visithoodriver.com/event/gorge-open-studio-tours-preview-show/2026-04-25/
LOCATION:Columbia Gorge Museum\, 990 SW Rock Creek Dr.\, Stevenson\, WA\, 98648
CATEGORIES:Community
ATTACH;FMTTYPE=image/webp:https://visithoodriver.com/wp-content/uploads/2026/04/IMG_3527.webp
END:VEVENT
BEGIN:VEVENT
DTSTART;TZID=America/Los_Angeles:20260425T113000
DTEND;TZID=America/Los_Angeles:20260425T140000
DTSTAMP:20260421T005110
CREATED:20260330T173707Z
LAST-MODIFIED:20260330T173707Z
UID:215963-1777116600-1777125600@visithoodriver.com
SUMMARY:Art in Motion Spring Train Event
DESCRIPTION:Art in Motion Spring Train Event \nSaturday\, April 25th \n11:30 am Departure \n  \nJoin MHRR on our scenic train for a unique experience with local artist Jordan Kim with Found & Rewound.   We will be “painting in the parlor car” while enjoying the scenic views as spring arrives to Hood River. No experience necessary\, just bring your creative side as we roll along the train tracks and create a one-of-a-kind masterpiece.  Table service will be provided with beer\, wine and snacks available for purchase. The art class will focus on Spring with “mixed media” and everyone will go home with a beautiful wood panel masterpiece. Tickets $77 includes: scenic historic train ride\, art instructor\, art supplies provided\, a sense of community\, 45 min layover at The Fruit Company\, a masterpiece to take home just in time for Mother’s Day! \n  \n 
URL:https://visithoodriver.com/event/art-in-motion-spring-train-event-2/
LOCATION:Mt. Hood Railroad\, 110 Railroad Street\, Hood River\, OR\, 97031
CATEGORIES:Community,Family Fun
END:VEVENT
BEGIN:VEVENT
DTSTART;TZID=America/Los_Angeles:20260426T100000
DTEND;TZID=America/Los_Angeles:20260426T170000
DTSTAMP:20260421T005110
CREATED:20260409T175853Z
LAST-MODIFIED:20260409T175853Z
UID:216296-1777197600-1777222800@visithoodriver.com
SUMMARY:Gorge Open Studio Tours- Preview Show
DESCRIPTION:Gorge Artists Preview Show \nFriday\, April 17- Sunday\, April 26 \nDaily- 10 am-5 pm \nStarting on Friday\, April 17 6-8 pm \nColumbia Gorge Museum \n990 SW Rock Creek Dr. \nStevenson\, WA \n  \n \n\nIn celebration of its 20th year\, Gorge Artists Open Studios will be hosting a special “Preview Show” opening on Friday\, April 17\, from 6 – 8 pm at the Columbia Gorge Museum in Stevenson\, WA.  The work will remain on display through Friday\, April 26.\n\nPlease join in at the Opening and meet the artists!  It is a wonderful opportunity to get a first look at the work of the artists participating in the Open Studios Tour which is scheduled for May 1-3.\n\nCheck our website for this information:  gorgeartists.org
URL:https://visithoodriver.com/event/gorge-open-studio-tours-preview-show/2026-04-26/
LOCATION:Columbia Gorge Museum\, 990 SW Rock Creek Dr.\, Stevenson\, WA\, 98648
CATEGORIES:Community
ATTACH;FMTTYPE=image/webp:https://visithoodriver.com/wp-content/uploads/2026/04/IMG_3527.webp
END:VEVENT
BEGIN:VEVENT
DTSTART;TZID=America/Los_Angeles:20260429T180000
DTEND;TZID=America/Los_Angeles:20260429T203000
DTSTAMP:20260421T005110
CREATED:20260403T190050Z
LAST-MODIFIED:20260403T190050Z
UID:216100-1777485600-1777494600@visithoodriver.com
SUMMARY:Before Wildfire Strikes- Understand Living with Fire in Hood River County
DESCRIPTION:Before Wildfire Strikes \nWednesday\, April 29 \n6:00- 8:30 pm \nColumbia Center for the Arts \n215 Cascade Ave. Hood River \nJoin the Hood River All Lands Partnership on Wednesday\, April 29th from 6:00-8:30pm for a free\, family friendly program focused on how we can work together to reduce wildfire risk in and around Hood River. This will be an opportunity to learn about Hood River’s wildfire risk\, explore strategies to increase resilience\, as well as connect with local wildfire and natural resource organizations. \nCommunity partners will be available to share information and answer questions\, and attendees will receive a copy of “Before Wildfire Strikes: A Guide to Improving Wildfire Preparedness and Living with Fire in Hood River County”. \nPROGRAM HIGHLIGHTS \n-Explore wildfire risk in Hood River. \n-Learn about the Firewise® program to improve household wildfire preparedness in the county. \n-See efforts along the Indian Creek drainage to reduce wildfire hazards. \n-Meet and greet with local wildfire agency partners. \nMore information- https://extension.oregonstate.edu/hoodriver/events/wildfire-strikes-improving-wildfire-preparedness-hood-river-county \n 
URL:https://visithoodriver.com/event/before-wildfire-strikes-understand-living-with-fire-in-hood-river-county/
LOCATION:Columbia Center for the Arts\, 215 Cascade Ave\, Hood River\, OR\, 97031\, United States
CATEGORIES:Community,Family Fun
ATTACH;FMTTYPE=image/jpeg:https://visithoodriver.com/wp-content/uploads/2026/04/Before-Wildfire-Strikes-Graphic.jpg
END:VEVENT
BEGIN:VEVENT
DTSTART;TZID=America/Los_Angeles:20260430T160000
DTEND;TZID=America/Los_Angeles:20260430T190000
DTSTAMP:20260421T005110
CREATED:20260409T182644Z
LAST-MODIFIED:20260410T192449Z
UID:216298-1777564800-1777575600@visithoodriver.com
SUMMARY:Sustain Home Spring Pop-Up
DESCRIPTION:Sustain Home Spring Pop Up\nCelebrate Mother’s Day and Spring\n\nThursday\, April 30 4-7pm \n\n\nJoin us at Sustain Home to celebrate Mother’s day and Spring!\nThursday April 30 4-7pm \n \nWe will be hosting local artisan Jen Trude showing her beautiful spring collection of jewelry. \nDiguardio boutique will be showing her collection of spring clothing by various designers nothing like you have seen before. \nAnnalemma Wines will be flowing! 
URL:https://visithoodriver.com/event/sustain-home-spring-pop-up-2/
LOCATION:Sustain Home\, 215 First St.\, Hood River\, OR\, 97031\, United States
CATEGORIES:Community,Nightlife
ATTACH;FMTTYPE=image/jpeg:https://visithoodriver.com/wp-content/uploads/2026/04/Sustain_SpringPopUp_Instagram-scaled.jpg
END:VEVENT
END:VCALENDAR